BEGIN:VCALENDAR
VERSION:2.0
PRODID:-//SageMint - ECPv6.15.20//NONSGML v1.0//EN
CALSCALE:GREGORIAN
METHOD:PUBLISH
X-ORIGINAL-URL:https://sagemint.com
X-WR-CALDESC:Events for SageMint
REFRESH-INTERVAL;VALUE=DURATION:PT1H
X-Robots-Tag:noindex
X-PUBLISHED-TTL:PT1H
BEGIN:VTIMEZONE
TZID:America/Chicago
BEGIN:DAYLIGHT
TZOFFSETFROM:-0600
TZOFFSETTO:-0500
TZNAME:CDT
DTSTART:20190310T080000
END:DAYLIGHT
BEGIN:STANDARD
TZOFFSETFROM:-0500
TZOFFSETTO:-0600
TZNAME:CST
DTSTART:20191103T070000
END:STANDARD
BEGIN:DAYLIGHT
TZOFFSETFROM:-0600
TZOFFSETTO:-0500
TZNAME:CDT
DTSTART:20200308T080000
END:DAYLIGHT
BEGIN:STANDARD
TZOFFSETFROM:-0500
TZOFFSETTO:-0600
TZNAME:CST
DTSTART:20201101T070000
END:STANDARD
BEGIN:DAYLIGHT
TZOFFSETFROM:-0600
TZOFFSETTO:-0500
TZNAME:CDT
DTSTART:20210314T080000
END:DAYLIGHT
BEGIN:STANDARD
TZOFFSETFROM:-0500
TZOFFSETTO:-0600
TZNAME:CST
DTSTART:20211107T070000
END:STANDARD
BEGIN:DAYLIGHT
TZOFFSETFROM:-0600
TZOFFSETTO:-0500
TZNAME:CDT
DTSTART:20220313T080000
END:DAYLIGHT
BEGIN:STANDARD
TZOFFSETFROM:-0500
TZOFFSETTO:-0600
TZNAME:CST
DTSTART:20221106T070000
END:STANDARD
BEGIN:DAYLIGHT
TZOFFSETFROM:-0600
TZOFFSETTO:-0500
TZNAME:CDT
DTSTART:20230312T080000
END:DAYLIGHT
BEGIN:STANDARD
TZOFFSETFROM:-0500
TZOFFSETTO:-0600
TZNAME:CST
DTSTART:20231105T070000
END:STANDARD
BEGIN:DAYLIGHT
TZOFFSETFROM:-0600
TZOFFSETTO:-0500
TZNAME:CDT
DTSTART:20240310T080000
END:DAYLIGHT
BEGIN:STANDARD
TZOFFSETFROM:-0500
TZOFFSETTO:-0600
TZNAME:CST
DTSTART:20241103T070000
END:STANDARD
BEGIN:DAYLIGHT
TZOFFSETFROM:-0600
TZOFFSETTO:-0500
TZNAME:CDT
DTSTART:20250309T080000
END:DAYLIGHT
BEGIN:STANDARD
TZOFFSETFROM:-0500
TZOFFSETTO:-0600
TZNAME:CST
DTSTART:20251102T070000
END:STANDARD
BEGIN:DAYLIGHT
TZOFFSETFROM:-0600
TZOFFSETTO:-0500
TZNAME:CDT
DTSTART:20260308T080000
END:DAYLIGHT
BEGIN:STANDARD
TZOFFSETFROM:-0500
TZOFFSETTO:-0600
TZNAME:CST
DTSTART:20261101T070000
END:STANDARD
END:VTIMEZONE
BEGIN:VTIMEZONE
TZID:UTC
BEGIN:STANDARD
TZOFFSETFROM:+0000
TZOFFSETTO:+0000
TZNAME:UTC
DTSTART:20230101T000000
END:STANDARD
END:VTIMEZONE
BEGIN:VEVENT
DTSTART;TZID=America/Chicago:20250106T170000
DTEND;TZID=America/Chicago:20250106T220000
DTSTAMP:20260423T070647
CREATED:20241201T232947Z
LAST-MODIFIED:20241201T234630Z
UID:10002891-1736182800-1736200800@sagemint.com
SUMMARY:Tulsa Winterfest
DESCRIPTION:Tulsa’s Favorite Holiday Tradition! The time has come to bundle up and enjoy the magical spirit of the holidays as Tulsa’s favorite winter celebration returns to downtown Tulsa. The 17th Annual Arvest Winterfest presented with Ascension St. John will kick off another season of holiday fun beginning on Friday\, November 29 through Monday\, January 6. This year the annual holiday celebration will be open for 40 days\, giving as many Tulsans possible a chance to enjoy skating outside BOK Center while skating beneath the beautiful\, gleaming holiday lights.​
URL:https://sagemint.com/event/winterfest-2/2025-01-06/
LOCATION:BOK Center\, 200 South Denver\, Tulsa\, OK\, 74103\, United States
CATEGORIES:Festivals,For Families,Holiday
ATTACH;FMTTYPE=image/png:https://sagemint.com/wp-content/uploads/2024/12/Winterfest.png
GEO:36.152952591041;-95.996381159898
X-APPLE-STRUCTURED-LOCATION;VALUE=URI;X-ADDRESS=BOK Center 200 South Denver Tulsa OK 74103 United States;X-APPLE-RADIUS=500;X-TITLE=200 South Denver:geo:-95.996381159898,36.152952591041
END:VEVENT
BEGIN:VEVENT
DTSTART;TZID=America/Chicago:20250101T173000
DTEND;TZID=America/Chicago:20250101T233000
DTSTAMP:20260423T070647
CREATED:20241201T231027Z
LAST-MODIFIED:20241201T233423Z
UID:10002474-1735752600-1735774200@sagemint.com
SUMMARY:Rhema Christmas Lights
DESCRIPTION:Experience the Rhema Christmas Lights Extravaganza\, a dazzling holiday tradition since 1982. Millions of LED lights adorn the 110-acre campus\, transforming it into a winter wonderland. This captivating display draws nearly half a million visitors each year from Oklahoma and surrounding states. Walking through the park and around the grounds\, you’ll encounter whimsical scenes\, including a gingerbread family surrounded by lollipops and gumdrops\, a 50-figure nativity scene\, and a synchronized musical display of trees and dancing snowflakes. The Rhema Park bridge adds a vibrant centerpiece\, while horse-drawn carriage rides and concessions add to the entire experience. Rhema’s Christmas lights aim to create a safe and joyful atmosphere while sharing the true meaning of Christmas\, highlighting Jesus Christ as the Light of the World. Join us and be a part of this cherished holiday tradition where the spirit of the season comes to life in a brilliant display of lights and heartwarming festivities.
URL:https://sagemint.com/event/rhema-christmas-lights/2025-01-01/
LOCATION:Rhema Bible Church\, 1025 W Kenosha St\, Broken Arrow\, 74012\, United States
CATEGORIES:Festivals,For Families,Holiday
ATTACH;FMTTYPE=image/jpeg:https://sagemint.com/wp-content/uploads/2024/12/rhema-lights.jpg
END:VEVENT
BEGIN:VEVENT
DTSTART;TZID=UTC:20241222T180000
DTEND;TZID=UTC:20241222T210000
DTSTAMP:20260423T070647
CREATED:20241130T054805Z
LAST-MODIFIED:20241202T170729Z
UID:10002429-1734890400-1734901200@sagemint.com
SUMMARY:JollyTown Presented by QuikTrip
DESCRIPTION:Experience QuikTrip’s JollyTown at Guthrie Green. Stroll through a winter wonderland\, listen to the sounds of the season\, and enjoy free crafts and activities. Don’t forget to say hi to Santa! This interactive event is fun for the whole family! Enjoy freeinteractive winter wonderland obstacle course/inflatable\, free cookie (while supplies last)\, Holiday light display\, Santa meet and greet\, holiday crafts including a commemorative ornament\, plenty of photo opportunities including a life-size snow globe\, a gift shop\, and more! \nHours of Operation:\nSunday – Thursday | 6 p.m. to 9 p.m.\nFriday – Saturday | 6 p.m. – 10 p.m.
URL:https://sagemint.com/event/jollytown-presented-by-quiktrip-4/
LOCATION:Guthrie Green\, 111 E Reconciliation Way\, Tulsa\, OK\, 74103\, United States
CATEGORIES:Festivals,Deals,Holiday
ATTACH;FMTTYPE=image/webp:https://sagemint.com/wp-content/uploads/2024/11/jolly-town.webp
END:VEVENT
BEGIN:VEVENT
DTSTART;TZID=America/Chicago:20241214T110000
DTEND;TZID=America/Chicago:20241214T110000
DTSTAMP:20260423T070647
CREATED:20241113T004101Z
LAST-MODIFIED:20241202T170251Z
UID:10001888-1734174000-1734174000@sagemint.com
SUMMARY:Tulsa Christmas Parade
DESCRIPTION:Since 1926\, the Tulsa Christmas Parade has entertained thousands of children and adults year after year as it winds through the historic streets of downtown Tulsa. In its early days\, when Tulsa was a new town booming with rapid growth from the recent discovery of oil\, the Christmas parade quickly became an annual tradition that has continued to be a favorite event for almost 100 years.
URL:https://sagemint.com/event/tulsa-christmas-parade/
LOCATION:Downtown Tulsa\, 74103\, United States
CATEGORIES:Festivals
ATTACH;FMTTYPE=image/jpeg:https://sagemint.com/wp-content/uploads/2024/11/christmas-parade.jpg
END:VEVENT
BEGIN:VEVENT
DTSTART;TZID=UTC:20241207T180000
DTEND;TZID=UTC:20241207T210000
DTSTAMP:20260423T070647
CREATED:20241130T055426Z
LAST-MODIFIED:20241130T055426Z
UID:10002404-1733594400-1733605200@sagemint.com
SUMMARY:Glow on the Green
DESCRIPTION:Get in the holiday spirit! Watch as the park illuminates with hundreds of colorful lights during our annual Glow on the Green\, sponsored by QuikTrip\, on Friday\, December 6. The event will include a holiday market\, food trucks\, music\, free pictures with Santa\, a QuikTrip inflatable obstacle course\, and more! Hosted by Travis Meyer. Holiday lights will remain on display every evening through January 5. \nDJ SUPERP\nLineup:\n6 p.m. – Tea Rush\n7 p.m. – Glow countdown + Branjae\n8 p.m. – Jacob Tovar \nFood Trucks:\nLoco Lemon\nCalaveras\nPita Place\nSugar Ruth \nBar Service:\nEn Fuego \nActivities:\nArtsy Cartsy – Create an ornament\nInspyral Circus – Meet the Grinch\, CandyCane Majorette\, and Mirror Man Juggler\nTulsa Balloons – Face painting and balloons\nHat Off The Press – Custom hats\nIt’s LIT – Photo op\nBAM Entertainment – 360 photo booth \nVendors:\nDreamspace Lab\nTerra Clay Company\nWhiss\nYusuf Etudaiye Pottery and Fine Arts\nOkie Girl Fudge\nCaleb Burgess\nHilo De Amor\nMoonStone 82\nLark Design\nMelody T Allen\nUrban Legends LLC\nJanae Javan\nSilver Star Stone\nRobiLynn Art\nOnce & Future Things\nJames Briggs\nJacque jewelry\nTattoo Pottery\nTulsa Stained Glass\nBougiee Bae Customizable Beads LLC\nJesslaine Arts\nForever Tuesday Art\nDonna Brunton Studios\nHat Off The Press\nFitty Sprinkles/The Cherry on Top\nTaino Roots\nTulsa PAC\nReforged Wood\nDankes Doxies\nMood Bru\nJilian Bell\nGathering Place\nGuthrie Green\nCharley Kean Candle Co.\nTulsa Ornaments\nRob Carlson Art\nUnder the Canopy\nFavor Healing Butter\nEuphorique Solutions
URL:https://sagemint.com/event/glow-on-the-green/
LOCATION:Guthrie Green\, 111 E Reconciliation Way\, Tulsa\, OK\, 74103\, United States
CATEGORIES:Festivals,Holiday
ATTACH;FMTTYPE=image/webp:https://sagemint.com/wp-content/uploads/2024/11/glow-on-the-green.webp
END:VEVENT
BEGIN:VEVENT
DTSTART;TZID=America/Chicago:20241201T080000
DTEND;TZID=America/Chicago:20241201T220000
DTSTAMP:20260423T070647
CREATED:20241201T231702Z
LAST-MODIFIED:20250206T053356Z
UID:10002475-1733040000-1733090400@sagemint.com
SUMMARY:Sapulpa's Route 66 Christmas Chute
DESCRIPTION:Sapulpa’s Route 66 Christmas Chute is a must-do on your family’s holiday bucket list. Voted “Oklahoma’s No. 1 Holiday Destination” by Oklahoma Magazine\, Sapulpa’s Route 66 Christmas Chute is a holiday experience unlike any other in the state. Over 800 feet of walkable Christmas decor with multiple shops\, restaurants\, photo ops and events every weekend! Start a new family tradition at the Route 66 Christmas Chute. This year’s Christmas Chute will have even more opportunities for that perfect holiday family outing\, including new events\, shopping and eateries!
URL:https://sagemint.com/event/sapulpas-route-66-christmas-chute/
LOCATION:Route 66 Christmas Chute\, 100 E Dewey Ave\, Sapulpa\, 74066\, United States
CATEGORIES:Festivals,For Families,Holiday
ATTACH;FMTTYPE=image/jpeg:https://sagemint.com/wp-content/uploads/2024/12/christmas-chute.jpg
END:VEVENT
BEGIN:VEVENT
DTSTART;TZID=America/Chicago:20241109T090000
DTEND;TZID=America/Chicago:20241109T183000
DTSTAMP:20260423T070647
CREATED:20240513T181120Z
LAST-MODIFIED:20240513T181645Z
UID:10001077-1731142800-1731177000@sagemint.com
SUMMARY:Shepherd's Cross Pumpkin Festival
DESCRIPTION:Come celebrate the harvest season at Shepherd’s Cross Pumpkin Festival. Shepherd’s Cross is an authentic working farm\, located a short drive from Historic Claremore\, Oklahoma. Shepherd’s Cross offers both a walk-through Pumpkin Patch or drive-up/curbside Pumpkin Patch. The Pumpkin Festival includes over 60 activities for families\, including: farm animal petting\, hay bale maze\, baby chick hatching\, working wool mill\, sheep wagon rides\, lots of games\, contests\, an outdoor picnic area\, and much more! Donations appreciated.
URL:https://sagemint.com/event/shepherds-cross-pumpkin-festival-2024/2024-11-09/
LOCATION:Shepherd’s Cross\, 16792 East 450 Road\, Claremore\, OK\, 74017-0935\, United States
CATEGORIES:Field Trips,Festivals,For Families
ATTACH;FMTTYPE=image/jpeg:https://sagemint.com/wp-content/uploads/2024/05/shepherds-cross-pumpkin-fest.jpeg
ORGANIZER;CN="Shepherd's Cross & Heart of the Shepherd":MAILTO:SheepFarm@ShepherdsCross.com
GEO:36.364943658977;-95.528961842624
X-APPLE-STRUCTURED-LOCATION;VALUE=URI;X-ADDRESS=Shepherd’s Cross 16792 East 450 Road Claremore OK 74017-0935 United States;X-APPLE-RADIUS=500;X-TITLE=16792 East 450 Road:geo:-95.528961842624,36.364943658977
END:VEVENT
BEGIN:VEVENT
DTSTART;VALUE=DATE:20240823
DTEND;VALUE=DATE:20240826
DTSTAMP:20260423T070647
CREATED:20240513T182547Z
LAST-MODIFIED:20240513T182547Z
UID:10001115-1724371200-1724630399@sagemint.com
SUMMARY:Oklahoma Festival of Ballooning
DESCRIPTION:Hot air balloons will fill the sky over Muskogee’s Hatbox Field this August during the Oklahoma Festival of Ballooning. This magical event will feature tethered balloon rides\, balloon glows after dark and hot air balloon rides as contestants compete for the Oklahoma Hot Air Balloon Championship Governor’s Trophy.
URL:https://sagemint.com/event/oklahoma-festival-of-ballooning/
LOCATION:Hatbox Field\, 4000 Border Ave\, Muskogee\, 74401\, United States
CATEGORIES:Festivals
ATTACH;FMTTYPE=image/jpeg:https://sagemint.com/wp-content/uploads/2024/05/LOGO-OkieBalloonFest-SMALL.jpg
END:VEVENT
BEGIN:VEVENT
DTSTART;TZID=America/Chicago:20240622T090000
DTEND;TZID=America/Chicago:20240622T150000
DTSTAMP:20260423T070647
CREATED:20240513T175442Z
LAST-MODIFIED:20240513T204122Z
UID:10001041-1719046800-1719068400@sagemint.com
SUMMARY:Taste of Summer Ice Cream Festival
DESCRIPTION:Taste of Summer 2024\, presented by American Waste Control and Blue Bell Creameries\, will return to Broken Arrow on Saturday\, June 22. The annual festival will take place at Central Park on Main in Broken Arrow\, and feature summertime fun for the entire family\, including: Unlimited Blue Bell ice cream\, a “Get Active Zone” for all ages\, Kid’s craft area\, Marketplace with local vendors\, Food vendors\, Water inflatables and cooling stations to stay cool\, BAPD & BAFD Touch-a-Truck\, “Water Wars” zone with water balloon fights\, and more! \nAdvanced tickets are $5 before April 30. May 1 through June 23 are $7 per person and $8 at the gate. Children two and under are free.
URL:https://sagemint.com/event/taste-of-summer-ice-cream-festival/
LOCATION:Central Park on Main\, 1500 S. Main Street\, Broken Arrow\, OK\, 74012\, United States
CATEGORIES:Festivals,For Moms,For Dads,Deals,For Families,For Students
ATTACH;FMTTYPE=image/png:https://sagemint.com/wp-content/uploads/2024/05/Screenshot-2024-05-13-at-12.33.32 PM.png
GEO:36.0397654;-95.791513
X-APPLE-STRUCTURED-LOCATION;VALUE=URI;X-ADDRESS=Central Park on Main 1500 S. Main Street Broken Arrow OK 74012 United States;X-APPLE-RADIUS=500;X-TITLE=1500 S. Main Street:geo:-95.791513,36.0397654
END:VEVENT
BEGIN:VEVENT
DTSTART;VALUE=DATE:20240607
DTEND;VALUE=DATE:20240610
DTSTAMP:20260423T070647
CREATED:20240513T172954Z
LAST-MODIFIED:20240513T174531Z
UID:10001039-1717718400-1717977599@sagemint.com
SUMMARY:OKM Music Festival 2024
DESCRIPTION:OKM Music Festival remains Oklahoma’s premier and longest running music festival entering its 40th season. In honor of the very first Festival OKM Music will return to its roots of an all Classical\, Three-Day Festival this season\, June 7th through June 9th. \nThe Mostly Mozart 40th Anniversary Festival kicks off on Friday\, June 7\, “Under the Stars” at the popular and beloved Woolaroc (Bartlesville). The evening’s concert opens with upcoming Oklahoma artist Jecelle Dobson\, violinist and vocalist. The Manhattan Chamber Players (MCP)\, an eighteen-piece chamber orchestra will headline the night with beautiful pieces by Mozart\, Bach and Tchaikovsky. Pack a picnic\, grab a bottle of wine\, enjoy cuisine of locally owned food trucks\, sit back and relax with a nice summer breeze while viewing the wildlife roaming the Osage Hills. There will also be games for kids and fireworks to conclude a perfect summer night. \nOn Saturday\, June 8\, at The Cascia Hall Performing Arts Center (Tulsa)\, OKM Music is excited to present our second “Mozart by Candlelight” concert. The evening will begin with a wonderful performance by Tulsa Honors Baroque Orchestra followed by breathtaking candlelight Mozart serenade by Steinway Artist Jenny Lin and Yahama Artist Adam Tendler. \nEnjoy sipping on wine\, eating small bites\, meeting the artists and just soaking in the amazing movements of Mozart\, Brahms\, and Ravel. “The Grand Finale” will transform its guests into another time on Sunday\, June 9\, at The Refinery (Johnstone-Sare Building\, Bartlesville). Guests will be delighted to hear Escher Quartet’s moving performance. Concert goers will enjoy a whimsical summer soiree prior to the concert with small bites and wine\, followed by scrumptious sweets and coffee during intermission. This concert will be a beautiful combination of musical perfection and harmonious delightfulness. \nThe Showcase Series will take place on June 7-9 during the daytime. The showcase lineup will be launched on April 1. The showcase series is a special gift from OKM Music to the Community. All performances are free to the public and will feature past favorites and wonderful new artists to the series. The performances will take place in Ambler Hall\, OKM Music’s very own performance hall.\nThe Especially for Kids Festival will take place on May 31-June 6 and will also launch its lineup on April 1. The Especially for Kids Festival has become very popular and each year over 1000 youth attend the events offered throughout the week. The events are free with the exception of the special tea party. The fun Especially for Kids Passports will be available at the OKM Office\, Library\, the Center\, and other businesses beginning May 1\, 2024.
URL:https://sagemint.com/event/okm-music-festival-2024/
LOCATION:Bartlesville\, Oklahoma\, Bartlesville\, OK\, 74003\, United States
CATEGORIES:Festivals,Performing Arts,Entertainment
ATTACH;FMTTYPE=image/png:https://sagemint.com/wp-content/uploads/2024/05/okMozart.png
ORGANIZER;CN="OKM Music":MAILTO:hello@okmusic.org
END:VEVENT
BEGIN:VEVENT
DTSTART;VALUE=DATE:20240531
DTEND;VALUE=DATE:20240607
DTSTAMP:20260423T070647
CREATED:20240513T174111Z
LAST-MODIFIED:20240513T174329Z
UID:10001040-1717113600-1717718399@sagemint.com
SUMMARY:OKM Music: Especially for Kids Festival 2024
DESCRIPTION:OKM Music’s Especially for Kids Festival will take place on May 31-June 6\, featuring over a dozen music\, art\, and story experiences. Except for the Winnie the Pooh Tea Party ($15 per person)\, all Especially for Kids Festival events are FREE. Especially for Kids Festival Passports are available at the OKM Office\, Library\, the Center\, and other businesses.
URL:https://sagemint.com/event/okm-music-especially-for-kids-festival-2024/
LOCATION:Bartlesville\, Oklahoma\, Bartlesville\, OK\, 74003\, United States
CATEGORIES:Festivals,For Families,For Students,Performing Arts,Visual Arts,Entertainment
ATTACH;FMTTYPE=image/webp:https://sagemint.com/wp-content/uploads/2024/05/OKM-Esp-for-Kids-Fest.webp
ORGANIZER;CN="OKM Music":MAILTO:hello@okmusic.org
END:VEVENT
BEGIN:VEVENT
DTSTART;TZID=America/Chicago:20200922T090000
DTEND;TZID=America/Chicago:20201107T183000
DTSTAMP:20260423T070647
CREATED:20201015T053644Z
LAST-MODIFIED:20201015T054639Z
UID:10000104-1600765200-1604773800@sagemint.com
SUMMARY:Shepherd's Cross Pumpkin Festival
DESCRIPTION:Come celebrate the harvest season at Shepherd’s Cross Pumpkin Festival. Shepherd’s Cross is an authentic working farm\, located a short drive from Historic Claremore\, Oklahoma. Shepherd’s Cross offers both a walk-through Pumpkin Patch or drive-up/curbside Pumpkin Patch. The Pumpkin Festival includes over 60 activities for families\, including: farm animal petting\, hay bale maze\, baby chick hatching\, working wool mill\, sheep wagon rides\, lots of games\, contests\, an outdoor picnic area\, and much more! Donations appreciated.
URL:https://sagemint.com/event/shepherds-cross-pumpkin-festival/
LOCATION:Shepherd’s Cross\, 16792 East 450 Road\, Claremore\, OK\, 74017-0935\, United States
CATEGORIES:Field Trips,Festivals,For Families
ATTACH;FMTTYPE=image/jpeg:https://sagemint.com/wp-content/uploads/2020/10/shepherds-cross.jpg
ORGANIZER;CN="Shepherd's Cross & Heart of the Shepherd":MAILTO:SheepFarm@ShepherdsCross.com
GEO:36.364943658977;-95.528961842624
X-APPLE-STRUCTURED-LOCATION;VALUE=URI;X-ADDRESS=Shepherd’s Cross 16792 East 450 Road Claremore OK 74017-0935 United States;X-APPLE-RADIUS=500;X-TITLE=16792 East 450 Road:geo:-95.528961842624,36.364943658977
END:VEVENT
BEGIN:VEVENT
DTSTART;VALUE=DATE:20200424
DTEND;VALUE=DATE:20200426
DTSTAMP:20260423T070647
CREATED:20190914T165555Z
LAST-MODIFIED:20190916T000616Z
UID:10000082-1587686400-1587859199@sagemint.com
SUMMARY:The Red Fern Festival
DESCRIPTION:Bring the family to Tahlequah and enjoy the Red Fern Festival\, a fun\, old-fashioned fun event featuring hound dog field trials\, 1930s era children’s games\, a car show and more. The Red Fern Festival was inspired by the renowned novel\, “Where the Red Fern Grows” by native author Wilson Rawls. \nThe festival evokes the novel’s story of simple childhood joys with a wide array of old-fashioned events perfect for the whole family. One of Tahlequah’s premier events\, the Red Fern Festival features unique and rustic food vendors\, a barbecue cook-off\, live music\, a tractor parade\, crawdad hole and plenty of children’s activities. Come to this award-winning event and transport yourself back to the 1930s while also touring locations from the novel.
URL:https://sagemint.com/event/the-red-fern-festival/
LOCATION:Tahlequah Main Street\, Tahlequah\, OK\, 74464\, United States
CATEGORIES:Festivals,For Families
ATTACH;FMTTYPE=image/png:https://sagemint.com/wp-content/uploads/2019/09/rf2019-logo.png
GEO:35.91795649008754,;-94.96876268681471
END:VEVENT
END:VCALENDAR