BEGIN:VCALENDAR
VERSION:2.0
PRODID:-//SageMint - ECPv6.15.19//NONSGML v1.0//EN
CALSCALE:GREGORIAN
METHOD:PUBLISH
X-ORIGINAL-URL:https://sagemint.com
X-WR-CALDESC:Events for SageMint
REFRESH-INTERVAL;VALUE=DURATION:PT1H
X-Robots-Tag:noindex
X-PUBLISHED-TTL:PT1H
BEGIN:VTIMEZONE
TZID:America/Chicago
BEGIN:DAYLIGHT
TZOFFSETFROM:-0600
TZOFFSETTO:-0500
TZNAME:CDT
DTSTART:20190310T080000
END:DAYLIGHT
BEGIN:STANDARD
TZOFFSETFROM:-0500
TZOFFSETTO:-0600
TZNAME:CST
DTSTART:20191103T070000
END:STANDARD
BEGIN:DAYLIGHT
TZOFFSETFROM:-0600
TZOFFSETTO:-0500
TZNAME:CDT
DTSTART:20200308T080000
END:DAYLIGHT
BEGIN:STANDARD
TZOFFSETFROM:-0500
TZOFFSETTO:-0600
TZNAME:CST
DTSTART:20201101T070000
END:STANDARD
BEGIN:DAYLIGHT
TZOFFSETFROM:-0600
TZOFFSETTO:-0500
TZNAME:CDT
DTSTART:20210314T080000
END:DAYLIGHT
BEGIN:STANDARD
TZOFFSETFROM:-0500
TZOFFSETTO:-0600
TZNAME:CST
DTSTART:20211107T070000
END:STANDARD
BEGIN:DAYLIGHT
TZOFFSETFROM:-0600
TZOFFSETTO:-0500
TZNAME:CDT
DTSTART:20220313T080000
END:DAYLIGHT
BEGIN:STANDARD
TZOFFSETFROM:-0500
TZOFFSETTO:-0600
TZNAME:CST
DTSTART:20221106T070000
END:STANDARD
BEGIN:DAYLIGHT
TZOFFSETFROM:-0600
TZOFFSETTO:-0500
TZNAME:CDT
DTSTART:20230312T080000
END:DAYLIGHT
BEGIN:STANDARD
TZOFFSETFROM:-0500
TZOFFSETTO:-0600
TZNAME:CST
DTSTART:20231105T070000
END:STANDARD
BEGIN:DAYLIGHT
TZOFFSETFROM:-0600
TZOFFSETTO:-0500
TZNAME:CDT
DTSTART:20240310T080000
END:DAYLIGHT
BEGIN:STANDARD
TZOFFSETFROM:-0500
TZOFFSETTO:-0600
TZNAME:CST
DTSTART:20241103T070000
END:STANDARD
BEGIN:DAYLIGHT
TZOFFSETFROM:-0600
TZOFFSETTO:-0500
TZNAME:CDT
DTSTART:20250309T080000
END:DAYLIGHT
BEGIN:STANDARD
TZOFFSETFROM:-0500
TZOFFSETTO:-0600
TZNAME:CST
DTSTART:20251102T070000
END:STANDARD
BEGIN:DAYLIGHT
TZOFFSETFROM:-0600
TZOFFSETTO:-0500
TZNAME:CDT
DTSTART:20260308T080000
END:DAYLIGHT
BEGIN:STANDARD
TZOFFSETFROM:-0500
TZOFFSETTO:-0600
TZNAME:CST
DTSTART:20261101T070000
END:STANDARD
END:VTIMEZONE
BEGIN:VEVENT
DTSTART;TZID=America/Chicago:20201114T180000
DTEND;TZID=America/Chicago:20201114T193000
DTSTAMP:20260420T030005
CREATED:20201104T223024Z
LAST-MODIFIED:20201104T223859Z
UID:10000021-1605376800-1605382200@sagemint.com
SUMMARY:CCMT: Disney's The AristoCats KIDS
DESCRIPTION:Based on the beloved Disney animated film\, and featuring a jazzy\, upbeat score\, Disney’s The Aristocats KIDS is a non-stop thrill ride of feline fun\, complete with unbelievable twists and turns. \nIn the heart of Paris\, a kind and eccentric millionairess wills her entire estate to Duchess\, her high-society cat\, and her three little kittens. Laughs and adventure ensue as the greedy\, bumbling butler pulls off the ultimate catnap caper. Now it’s up to the rough-and-tumble alley cat\, Thomas O’Malley\, and his band of swingin’ jazz cats to save the day. \nDisney’s The Aristocats KIDS features plenty of exuberant group numbers and a cast that can be expanded by adding additional alley cats to the chorus.
URL:https://sagemint.com/event/ccmt-disneys-the-aristocats-kids/2020-11-14/2/
LOCATION:Tulsa Bible Church\, 5838 S Sheridan Road\, Tulsa\, OK\, 74145\, United States
CATEGORIES:For Moms,For Dads,For Students,Performing Arts,Classical Conversations
ATTACH;FMTTYPE=image/jpeg:https://sagemint.com/wp-content/uploads/2020/11/aristocats.jpg
GEO:36.078823607533;-95.905626313796
X-APPLE-STRUCTURED-LOCATION;VALUE=URI;X-ADDRESS=Tulsa Bible Church 5838 S Sheridan Road Tulsa OK 74145 United States;X-APPLE-RADIUS=500;X-TITLE=5838 S Sheridan Road:geo:-95.905626313796,36.078823607533
END:VEVENT
BEGIN:VEVENT
DTSTART;VALUE=DATE:20221117
DTEND;VALUE=DATE:20221121
DTSTAMP:20260420T030005
CREATED:20220823T211318Z
LAST-MODIFIED:20220823T211538Z
UID:10000032-1668643200-1668988799@sagemint.com
SUMMARY:A Year with Frog and Toad
DESCRIPTION:A hit on Broadway\, A Year with Frog and Toad was nominated for three Tony Awards\, including Best Musical. Based on Arnold Lobel’s well-loved books\, and featuring a hummable score by Robert and Willie Reale\, this whimsical show follows two great friends – the jovial\, popular Frog and the rather grumpy Toad – through four fun-filled seasons. The jazzy upbeat score of A Year with Frog and Toad bubbles with melody and wit\, making it an imaginative\, cheerful and charming musical for the whole family. \nNovember 17-20\, 2022\nTickets starting at $7.00 each.
URL:https://sagemint.com/event/a-year-with-frog-and-toad/
LOCATION:Vivia Locke Theatre\, 101 Seretean Center for the Performing Arts\, Stillwater\, OK\, 74078\, United States
CATEGORIES:For Families,For Students,Performing Arts
ATTACH;FMTTYPE=image/jpeg:https://sagemint.com/wp-content/uploads/2022/08/frog_and_toad.jpg
END:VEVENT
BEGIN:VEVENT
DTSTART;TZID=America/Chicago:20241123T190000
DTEND;TZID=America/Chicago:20241123T213000
DTSTAMP:20260420T030005
CREATED:20241113T005404Z
LAST-MODIFIED:20241113T005404Z
UID:10001890-1732388400-1732397400@sagemint.com
SUMMARY:CCMT: Irving Berlin's White Christmas
DESCRIPTION:Get ready to be swept away in a winter wonderland as we bring the beloved classic\, White Christmas\, to life on stage! Join Bob and Phil\, two talented veterans\, as they team up with a dazzling duo of sisters . With unforgettable songs\, stunning choreography\, and a heartwarming story\, this festive musical is a celebration of love\, friendship\, and the spirit of the season. Book your tickets now and let the joy of White Christmas fill your heart!
URL:https://sagemint.com/event/ccmt-irving-berlins-white-christmas/
LOCATION:Destiny Church\, 1700 S Aspen\, Broken Arrow\, OK\, 74012\, United States
CATEGORIES:Performing Arts,Entertainment
ATTACH;FMTTYPE=image/png:https://sagemint.com/wp-content/uploads/2024/11/White-Christmas-ccmt.png
END:VEVENT
BEGIN:VEVENT
DTSTART;TZID=America/Chicago:20241124T150000
DTEND;TZID=America/Chicago:20241124T173000
DTSTAMP:20260420T030005
CREATED:20241030T162823Z
LAST-MODIFIED:20241030T162823Z
UID:10001887-1732460400-1732469400@sagemint.com
SUMMARY:PILGRIM: The Musical
DESCRIPTION:PILGRIM is the musical retelling of the classic book The Pilgrim’s Progress by John Bunyan. Follow Christian on his journey from the City of Destruction to the Celestial City\, encountering life’s trials along the way with the King always by his side. The physical world and the spiritual world collide on the stage through music and dance as this captivating show draws audiences to think about the deeper questions of life. \nAdmission is free with ticket reservations required. Donations will be accepted. \nFAQ available here.
URL:https://sagemint.com/event/pilgrim-the-musical-6/
LOCATION:Freedom Encounter Theatre\, 3220 Falls Parkway\, Branson\, MO\, 65616\, United States
CATEGORIES:For Families,For Students,Performing Arts,Classical Conversations,Entertainment
ATTACH;FMTTYPE=image/jpeg:https://sagemint.com/wp-content/uploads/2024/10/PILGRIM-Poster.jpg
END:VEVENT
BEGIN:VEVENT
DTSTART;TZID=America/Chicago:20250308T190000
DTEND;TZID=America/Chicago:20250308T203000
DTSTAMP:20260420T030005
CREATED:20250212T162039Z
LAST-MODIFIED:20250212T162055Z
UID:10003450-1741460400-1741465800@sagemint.com
SUMMARY:CCMT: Seussical the Musical Jr.
DESCRIPTION:“Oh\, the thinks you can think” when Dr. Seuss’ best-loved characters collide and cavort in an unforgettable musical caper! Horton the Elephant\, the Cat in the Hat and all of your favorite Dr. Seuss characters spring to life onstage in Seussical JR.\, a fantastical musical extravaganza for the whole family. Transporting audiences from the Jungle of Nool to the Circus McGurkus\, the Cat in the Hat narrates the story of Horton the Elephant\, who discovers a speck of dust containing tiny people called the Whos. Horton must protect the Whos from a world of naysayers and dangers\, and he must also guard an abandoned egg that’s been left in his care by the irresponsible Mayzie La Bird.  Although Horton faces ridicule\, danger and a trial\, the intrepid Gertrude McFuzz never loses faith in him.  Ultimately\, the powers of friendship\, loyalty\, family and community are challenged and emerge triumphant!
URL:https://sagemint.com/event/ccmt-seussical-the-musical-jr-3/
LOCATION:Destiny Church\, 1700 S Aspen\, Broken Arrow\, OK\, 74012\, United States
CATEGORIES:For Moms,For Dads,For Families,For Students,Performing Arts,Entertainment,Theatre,For the Family
ATTACH;FMTTYPE=image/png:https://sagemint.com/wp-content/uploads/2025/02/Screenshot-2025-02-12-at-10.11.37 AM.png
END:VEVENT
END:VCALENDAR