BEGIN:VCALENDAR
VERSION:2.0
PRODID:-//SageMint - ECPv6.15.20//NONSGML v1.0//EN
CALSCALE:GREGORIAN
METHOD:PUBLISH
X-ORIGINAL-URL:https://sagemint.com
X-WR-CALDESC:Events for SageMint
REFRESH-INTERVAL;VALUE=DURATION:PT1H
X-Robots-Tag:noindex
X-PUBLISHED-TTL:PT1H
BEGIN:VTIMEZONE
TZID:America/Chicago
BEGIN:DAYLIGHT
TZOFFSETFROM:-0600
TZOFFSETTO:-0500
TZNAME:CDT
DTSTART:20240310T080000
END:DAYLIGHT
BEGIN:STANDARD
TZOFFSETFROM:-0500
TZOFFSETTO:-0600
TZNAME:CST
DTSTART:20241103T070000
END:STANDARD
BEGIN:DAYLIGHT
TZOFFSETFROM:-0600
TZOFFSETTO:-0500
TZNAME:CDT
DTSTART:20250309T080000
END:DAYLIGHT
BEGIN:STANDARD
TZOFFSETFROM:-0500
TZOFFSETTO:-0600
TZNAME:CST
DTSTART:20251102T070000
END:STANDARD
BEGIN:DAYLIGHT
TZOFFSETFROM:-0600
TZOFFSETTO:-0500
TZNAME:CDT
DTSTART:20260308T080000
END:DAYLIGHT
BEGIN:STANDARD
TZOFFSETFROM:-0500
TZOFFSETTO:-0600
TZNAME:CST
DTSTART:20261101T070000
END:STANDARD
END:VTIMEZONE
BEGIN:VEVENT
DTSTART;TZID=America/Chicago:20250519T170000
DTEND;TZID=America/Chicago:20250519T200000
DTSTAMP:20260424T150223
CREATED:20250310T175950Z
LAST-MODIFIED:20250310T180044Z
UID:10003616-1747674000-1747684800@sagemint.com
SUMMARY:OK Flame Volleyball Tryouts
DESCRIPTION:
URL:https://sagemint.com/event/ok-flame-volleyball-tryouts/2025-05-19/
LOCATION:Spirit Life Church\, 5365 South Peoria\, Tulsa\, 74135\, United States
CATEGORIES:For Students,Athletics,Volleyball,Shared Events
ATTACH;FMTTYPE=image/jpeg:https://sagemint.com/wp-content/uploads/2025/03/OKFlameVB-Tryouts.jpg
END:VEVENT
BEGIN:VEVENT
DTSTART;TZID=America/Chicago:20250512T170000
DTEND;TZID=America/Chicago:20250512T200000
DTSTAMP:20260424T150223
CREATED:20250310T180704Z
LAST-MODIFIED:20250310T180739Z
UID:10003624-1747069200-1747080000@sagemint.com
SUMMARY:OK Flame Volleyball Clinic
DESCRIPTION:We’re excited to announce our offseason volleyball clinics to give all homeschool athletes the opportunity to continue developing their skills. These sessions will take place on Mondays\, starting December 2nd\, focusing on skill development and conditioning to help you stay sharp and prepared for the next season. \n\nMiddle School 5:00 – 6:30pm\nHigh School 6:00 – 8:00pm\n\n\nRegister here:\nhttps://docs.google.com/forms/d/e/1FAIpQLSehYAFcF0Nr0aML9GBdMJVmg7tKIMzQSH5TyPE7M2LmZ9rvvg/viewform
URL:https://sagemint.com/event/ok-flame-volleyball-clinic/2025-05-12/
LOCATION:Parkview Baptist Church\, 5805 S Sheridan Rd\, Tulsa\, OK\, 74145\, United States
CATEGORIES:For Students,Athletics,Volleyball,Shared Events
ATTACH;FMTTYPE=image/jpeg:https://sagemint.com/wp-content/uploads/2025/03/OKFlameVB-Clinics.jpg
END:VEVENT
END:VCALENDAR