BEGIN:VCALENDAR
VERSION:2.0
PRODID:-//SageMint - ECPv6.15.20//NONSGML v1.0//EN
CALSCALE:GREGORIAN
METHOD:PUBLISH
X-WR-CALNAME:SageMint
X-ORIGINAL-URL:https://sagemint.com
X-WR-CALDESC:Events for SageMint
REFRESH-INTERVAL;VALUE=DURATION:PT1H
X-Robots-Tag:noindex
X-PUBLISHED-TTL:PT1H
BEGIN:VTIMEZONE
TZID:America/Chicago
BEGIN:DAYLIGHT
TZOFFSETFROM:-0600
TZOFFSETTO:-0500
TZNAME:CDT
DTSTART:20240310T080000
END:DAYLIGHT
BEGIN:STANDARD
TZOFFSETFROM:-0500
TZOFFSETTO:-0600
TZNAME:CST
DTSTART:20241103T070000
END:STANDARD
BEGIN:DAYLIGHT
TZOFFSETFROM:-0600
TZOFFSETTO:-0500
TZNAME:CDT
DTSTART:20250309T080000
END:DAYLIGHT
BEGIN:STANDARD
TZOFFSETFROM:-0500
TZOFFSETTO:-0600
TZNAME:CST
DTSTART:20251102T070000
END:STANDARD
BEGIN:DAYLIGHT
TZOFFSETFROM:-0600
TZOFFSETTO:-0500
TZNAME:CDT
DTSTART:20260308T080000
END:DAYLIGHT
BEGIN:STANDARD
TZOFFSETFROM:-0500
TZOFFSETTO:-0600
TZNAME:CST
DTSTART:20261101T070000
END:STANDARD
END:VTIMEZONE
BEGIN:VEVENT
DTSTART;VALUE=DATE:20250427
DTEND;VALUE=DATE:20250504
DTSTAMP:20260425T052217
CREATED:20250206T061222Z
LAST-MODIFIED:20250206T061242Z
UID:10003381-1745712000-1746316799@sagemint.com
SUMMARY:HWSA 2025 Tournament
DESCRIPTION:For more than two decades\, the Homeschool World Series has offered homeschool baseball teams across the USA a chance to compete against likeminded programs from every corner of the nation for the title of Homeschool World Series National Champions.
URL:https://sagemint.com/event/hwsa-2025-tournament/
LOCATION:Auburndale\, Florida\, Auburndale\, FL\, United States
CATEGORIES:Competitions,Athletics,Basketball
ATTACH;FMTTYPE=image/png:https://sagemint.com/wp-content/uploads/2025/02/HWSA-Baseball.png
END:VEVENT
END:VCALENDAR