BEGIN:VCALENDAR
VERSION:2.0
PRODID:-//SageMint - ECPv6.15.20//NONSGML v1.0//EN
CALSCALE:GREGORIAN
METHOD:PUBLISH
X-ORIGINAL-URL:https://sagemint.com
X-WR-CALDESC:Events for SageMint
REFRESH-INTERVAL;VALUE=DURATION:PT1H
X-Robots-Tag:noindex
X-PUBLISHED-TTL:PT1H
BEGIN:VTIMEZONE
TZID:America/Chicago
BEGIN:DAYLIGHT
TZOFFSETFROM:-0600
TZOFFSETTO:-0500
TZNAME:CDT
DTSTART:20200308T080000
END:DAYLIGHT
BEGIN:STANDARD
TZOFFSETFROM:-0500
TZOFFSETTO:-0600
TZNAME:CST
DTSTART:20201101T070000
END:STANDARD
BEGIN:DAYLIGHT
TZOFFSETFROM:-0600
TZOFFSETTO:-0500
TZNAME:CDT
DTSTART:20210314T080000
END:DAYLIGHT
BEGIN:STANDARD
TZOFFSETFROM:-0500
TZOFFSETTO:-0600
TZNAME:CST
DTSTART:20211107T070000
END:STANDARD
BEGIN:DAYLIGHT
TZOFFSETFROM:-0600
TZOFFSETTO:-0500
TZNAME:CDT
DTSTART:20220313T080000
END:DAYLIGHT
BEGIN:STANDARD
TZOFFSETFROM:-0500
TZOFFSETTO:-0600
TZNAME:CST
DTSTART:20221106T070000
END:STANDARD
END:VTIMEZONE
BEGIN:VEVENT
DTSTART;TZID=America/Chicago:20211029T190000
DTEND;TZID=America/Chicago:20211029T210000
DTSTAMP:20260423T064357
CREATED:20211006T203839Z
LAST-MODIFIED:20211028T013607Z
UID:10000114-1635534000-1635541200@sagemint.com
SUMMARY:Regency Ball 2021
DESCRIPTION:Challenge II students are invited to join us for a delightful introduction to the frolic and fun of Regency England. The inaugural Regency Ball will feature opportunities to socialize with friends\, make new acquaintance\, and enjoy educational activities including: \n\nTeam-based Trivia Game quizzing your team’s knowledge of Regency England — prizes will be awarded!\n\nLessons in Regency Etiquette\, with an emphasis on ballroom manners\, the rules of courtship\, and forms of address\nLessons in English Country Dancing\, a form of lively group dancing common at Regency gatherings\nHors d’oeuvres & Punch\nPrize for the best Regency Costume\nCash Drawing for Gentlemen\n\nEnrolled Challenge II students from all area Classical Conversations communities are welcome. Please bring a nut-free Appetizer or Dessert to share. Dress in Regency Costume or Business Attire. \nSpace is limited\, so purchase today! Tickets will not be available at the door.
URL:https://sagemint.com/event/regency-ball-2021/
LOCATION:Memorial Baptist Church\, 2800 South Yale Avenue\, Tulsa\, OK\, 74135\, United States
CATEGORIES:For Students,Classical Conversations,CC Midtown Tulsa
ATTACH;FMTTYPE=image/png:https://sagemint.com/wp-content/uploads/2021/10/Invitation-FINAL_Logo.png
GEO:36.122060540164;-95.922692800302
X-APPLE-STRUCTURED-LOCATION;VALUE=URI;X-ADDRESS=Memorial Baptist Church 2800 South Yale Avenue Tulsa OK 74135 United States;X-APPLE-RADIUS=500;X-TITLE=2800 South Yale Avenue:geo:-95.922692800302,36.122060540164
END:VEVENT
END:VCALENDAR