BEGIN:VCALENDAR
VERSION:2.0
PRODID:-//SageMint - ECPv6.15.20//NONSGML v1.0//EN
CALSCALE:GREGORIAN
METHOD:PUBLISH
X-ORIGINAL-URL:https://sagemint.com
X-WR-CALDESC:Events for SageMint
REFRESH-INTERVAL;VALUE=DURATION:PT1H
X-Robots-Tag:noindex
X-PUBLISHED-TTL:PT1H
BEGIN:VTIMEZONE
TZID:America/Chicago
BEGIN:DAYLIGHT
TZOFFSETFROM:-0600
TZOFFSETTO:-0500
TZNAME:CDT
DTSTART:20190310T080000
END:DAYLIGHT
BEGIN:STANDARD
TZOFFSETFROM:-0500
TZOFFSETTO:-0600
TZNAME:CST
DTSTART:20191103T070000
END:STANDARD
BEGIN:DAYLIGHT
TZOFFSETFROM:-0600
TZOFFSETTO:-0500
TZNAME:CDT
DTSTART:20200308T080000
END:DAYLIGHT
BEGIN:STANDARD
TZOFFSETFROM:-0500
TZOFFSETTO:-0600
TZNAME:CST
DTSTART:20201101T070000
END:STANDARD
BEGIN:DAYLIGHT
TZOFFSETFROM:-0600
TZOFFSETTO:-0500
TZNAME:CDT
DTSTART:20210314T080000
END:DAYLIGHT
BEGIN:STANDARD
TZOFFSETFROM:-0500
TZOFFSETTO:-0600
TZNAME:CST
DTSTART:20211107T070000
END:STANDARD
BEGIN:DAYLIGHT
TZOFFSETFROM:-0600
TZOFFSETTO:-0500
TZNAME:CDT
DTSTART:20220313T080000
END:DAYLIGHT
BEGIN:STANDARD
TZOFFSETFROM:-0500
TZOFFSETTO:-0600
TZNAME:CST
DTSTART:20221106T070000
END:STANDARD
BEGIN:DAYLIGHT
TZOFFSETFROM:-0600
TZOFFSETTO:-0500
TZNAME:CDT
DTSTART:20230312T080000
END:DAYLIGHT
BEGIN:STANDARD
TZOFFSETFROM:-0500
TZOFFSETTO:-0600
TZNAME:CST
DTSTART:20231105T070000
END:STANDARD
BEGIN:DAYLIGHT
TZOFFSETFROM:-0600
TZOFFSETTO:-0500
TZNAME:CDT
DTSTART:20240310T080000
END:DAYLIGHT
BEGIN:STANDARD
TZOFFSETFROM:-0500
TZOFFSETTO:-0600
TZNAME:CST
DTSTART:20241103T070000
END:STANDARD
END:VTIMEZONE
BEGIN:VEVENT
DTSTART;VALUE=DATE:20230615
DTEND;VALUE=DATE:20230618
DTSTAMP:20260423T131646
CREATED:20221012T003409Z
LAST-MODIFIED:20221012T003409Z
UID:10000036-1686787200-1687046399@sagemint.com
SUMMARY:Great Homeschool Conventions: California
DESCRIPTION:A fun\, friendly experience packed full of resources\, workshops and exciting speakers. Attendees from dozens of states\, hotel discounts and more. There is a reason homeschooling families travel from all over the United States and Canada to attend a Great Homeschool Convention. They not only take advantage of the hotel discounts offered to attendees\, but it truly is the Homeschooling Event of the Year! \nWith the best home education speakers\, you won’t find anywhere else\, you will have the option of hundreds of info-packed workshops where you will learn practical ideas you can implement immediately. \nBrowse and shop a huge homeschool curriculum exhibit hall that offers the best homeschooling curriculum and resources. \n  \n  \n 
URL:https://sagemint.com/event/great-homeschool-conventions-california-23/
LOCATION:Ontario Convention Center\, 2000 East Convention Center Way\, Ontario\, CA\, 91764\, United States
CATEGORIES:Conventions
ATTACH;FMTTYPE=image/png:https://sagemint.com/wp-content/uploads/2017/04/GHC-logo-main-3-color.png
GEO:34.065936836507;-117.60662699476
X-APPLE-STRUCTURED-LOCATION;VALUE=URI;X-ADDRESS=Ontario Convention Center 2000 East Convention Center Way Ontario CA 91764 United States;X-APPLE-RADIUS=500;X-TITLE=2000 East Convention Center Way:geo:-117.60662699476,34.065936836507
END:VEVENT
BEGIN:VEVENT
DTSTART;VALUE=DATE:20220616
DTEND;VALUE=DATE:20220619
DTSTAMP:20260423T131646
CREATED:20220606T160434Z
LAST-MODIFIED:20220606T160448Z
UID:10000028-1655337600-1655596799@sagemint.com
SUMMARY:Great Homeschool Conventions - California
DESCRIPTION:Great Homeschool Conventions are the Homeschooling Events of the Year\, offering outstanding speakers\, hundreds of workshops on today’s top parenting and homeschooling topics\, and the largest homeschool curriculum exhibit halls in the USA.
URL:https://sagemint.com/event/great-homeschool-conventions-california-2022/
LOCATION:Ontario Convention Center\, 2000 East Convention Center Way\, Ontario\, CA\, 91764\, United States
CATEGORIES:Conventions
ATTACH;FMTTYPE=image/png:https://sagemint.com/wp-content/uploads/2017/04/GHC-logo-main-3-color.png
GEO:34.065936836507;-117.60662699476
X-APPLE-STRUCTURED-LOCATION;VALUE=URI;X-ADDRESS=Ontario Convention Center 2000 East Convention Center Way Ontario CA 91764 United States;X-APPLE-RADIUS=500;X-TITLE=2000 East Convention Center Way:geo:-117.60662699476,34.065936836507
END:VEVENT
BEGIN:VEVENT
DTSTART;VALUE=DATE:20210617
DTEND;VALUE=DATE:20210620
DTSTAMP:20260423T131646
CREATED:20201014T181747Z
LAST-MODIFIED:20201014T181747Z
UID:10000096-1623888000-1624147199@sagemint.com
SUMMARY:Great Homeschooling Conventions - California
DESCRIPTION:Great Homeschool Conventions are the Homeschooling Events of the Year\, offering outstanding speakers\, hundreds of workshops on today’s top parenting and homeschooling topics\, and the largest homeschool curriculum exhibit halls in the USA.
URL:https://sagemint.com/event/great-homeschooling-conventions-california-2021/
LOCATION:Ontario Convention Center\, 2000 East Convention Center Way\, Ontario\, CA\, 91764\, United States
CATEGORIES:Conventions
ATTACH;FMTTYPE=image/png:https://sagemint.com/wp-content/uploads/2017/04/GHC-logo-main-3-color.png
GEO:34.065936836507;-117.60662699476
X-APPLE-STRUCTURED-LOCATION;VALUE=URI;X-ADDRESS=Ontario Convention Center 2000 East Convention Center Way Ontario CA 91764 United States;X-APPLE-RADIUS=500;X-TITLE=2000 East Convention Center Way:geo:-117.60662699476,34.065936836507
END:VEVENT
BEGIN:VEVENT
DTSTART;VALUE=DATE:20200618
DTEND;VALUE=DATE:20200621
DTSTAMP:20260423T131646
CREATED:20190909T170847Z
LAST-MODIFIED:20190915T235913Z
UID:10000054-1592438400-1592697599@sagemint.com
SUMMARY:Great Homeschool Conventions: California
DESCRIPTION:Great Homeschool Conventions are the Homeschooling Events of the Year\, offering outstanding speakers\, hundreds of workshops on today’s top parenting and homeschooling topics\, and the largest homeschool curriculum exhibit halls in the USA. \nFor details about this event\, or to register\, visit: \nhttps://greathomeschoolconventions.com/locations/california
URL:https://sagemint.com/event/great-homeschool-conventions-california/
LOCATION:Ontario Convention Center\, 2000 East Convention Center Way\, Ontario\, CA\, 91764\, United States
CATEGORIES:For Moms,For Dads,Conventions
ATTACH;FMTTYPE=image/png:https://sagemint.com/wp-content/uploads/2017/04/GHC-logo-main-3-color.png
GEO:34.065936836507;-117.60662699476
X-APPLE-STRUCTURED-LOCATION;VALUE=URI;X-ADDRESS=Ontario Convention Center 2000 East Convention Center Way Ontario CA 91764 United States;X-APPLE-RADIUS=500;X-TITLE=2000 East Convention Center Way:geo:-117.60662699476,34.065936836507
END:VEVENT
END:VCALENDAR